BEGIN:VCALENDAR
VERSION:2.0
PRODID:-//Peace Region Living Lab - ECPv6.15.20//NONSGML v1.0//EN
CALSCALE:GREGORIAN
METHOD:PUBLISH
X-WR-CALNAME:Peace Region Living Lab
X-ORIGINAL-URL:https://peacelivinglab.ca
X-WR-CALDESC:Events for Peace Region Living Lab
REFRESH-INTERVAL;VALUE=DURATION:PT1H
X-Robots-Tag:noindex
X-PUBLISHED-TTL:PT1H
BEGIN:VTIMEZONE
TZID:America/Dawson_Creek
BEGIN:STANDARD
TZOFFSETFROM:-0700
TZOFFSETTO:-0700
TZNAME:MST
DTSTART:20220101T000000
END:STANDARD
END:VTIMEZONE
BEGIN:VEVENT
DTSTART;TZID=America/Dawson_Creek:20230203T080000
DTEND;TZID=America/Dawson_Creek:20230224T170000
DTSTAMP:20260422T040846
CREATED:20230115T204857Z
LAST-MODIFIED:20230115T204857Z
UID:519-1675411200-1677258000@peacelivinglab.ca
SUMMARY:Drought Recovery Series
DESCRIPTION:Join PCBFA for a three part series on managing hay\, pasture\, and nutrition in unpredictable weather conditions \n​ \nFriday February 3rd \nGrazing plans and drought conditions \n​ \nFriday February 10th \nNutrient management for forages and crops \n​ \nFriday February 17th \nNutrition and Hayland Management for cattle \n​ \nFree to Attend! \nRecordings will be sent out 1 week after live sessions \n​ \nRegister online\, or contact Johanna at 780-523-4033
URL:https://peacelivinglab.ca/event/drought-recovery-series/
LOCATION:Zoom
CATEGORIES:webinar
ATTACH;FMTTYPE=image/jpeg:https://peacelivinglab.ca/wp-content/uploads/2023/01/Drought-Recovery-Series_PCBFA.jpg
ORGANIZER;CN="Peace Country Beef & Forage Association":MAILTO:info@pcbfa.ca
END:VEVENT
END:VCALENDAR